BEGIN:VCALENDAR
VERSION:2.0
PRODID:-//Berlin Product People GmbH - ECPv6.15.6//NONSGML v1.0//EN
CALSCALE:GREGORIAN
METHOD:PUBLISH
X-WR-CALNAME:Berlin Product People GmbH
X-ORIGINAL-URL:https://berlin-product-people.com
X-WR-CALDESC:Events for Berlin Product People GmbH
REFRESH-INTERVAL;VALUE=DURATION:PT1H
X-Robots-Tag:noindex
X-PUBLISHED-TTL:PT1H
BEGIN:VTIMEZONE
TZID:Europe/Berlin
BEGIN:DAYLIGHT
TZOFFSETFROM:+0100
TZOFFSETTO:+0200
TZNAME:CEST
DTSTART:20240331T010000
END:DAYLIGHT
BEGIN:STANDARD
TZOFFSETFROM:+0200
TZOFFSETTO:+0100
TZNAME:CET
DTSTART:20241027T010000
END:STANDARD
BEGIN:DAYLIGHT
TZOFFSETFROM:+0100
TZOFFSETTO:+0200
TZNAME:CEST
DTSTART:20250330T010000
END:DAYLIGHT
BEGIN:STANDARD
TZOFFSETFROM:+0200
TZOFFSETTO:+0100
TZNAME:CET
DTSTART:20251026T010000
END:STANDARD
BEGIN:DAYLIGHT
TZOFFSETFROM:+0100
TZOFFSETTO:+0200
TZNAME:CEST
DTSTART:20260329T010000
END:DAYLIGHT
BEGIN:STANDARD
TZOFFSETFROM:+0200
TZOFFSETTO:+0100
TZNAME:CET
DTSTART:20261025T010000
END:STANDARD
END:VTIMEZONE
BEGIN:VEVENT
DTSTART;TZID=Europe/Berlin:20250605T140000
DTEND;TZID=Europe/Berlin:20250703T180000
DTSTAMP:20260421T143015
CREATED:20250405T131919Z
LAST-MODIFIED:20250409T081240Z
UID:4356-1749132000-1751565600@berlin-product-people.com
SUMMARY:AI for Agile Practitioners: Pilot Cohort #3 — June 5 to July 3\, 2025
DESCRIPTION:Book Your Seat in the AI for Agile Practitioners: Pilot Cohort Program — June 5 to July 3\, 2025\n\nTransform your Agile practice with AI. Be among the first to master practical AI applications for Scrum Masters\, Agile Coaches\, Product Owners\, Product Managers\, and Project Managers. \n\nLed by Stefan Wolpers\, Professional Scrum Trainer and author of the Scrum Anti-Patterns Guide\, this live\, interactive class is designed for agile practitioners who want to stay relevant and utilize AI for their professional benefit. The class is in English. 🇬🇧 \n\n\nBook Your Seat by Email\n\nAs a corporate customer\, you can book your seat by email. Please provide us with all the necessary information for invoicing. From corporate customers based in the European Union who want to use the reverse charge procedure regarding VAT\, we also need the VAT ID: \n\n\n\nDisplay phone number\n+49 171 30 30 321\n\nDisplay e-mail address\nstefan.wolpers@berlin-product-people.com\n\n\n\nVAT and Booking Your Seat via the Ticket Shop\n\nAll tickets listed in this ticket shop always include 19% VAT. However\, there are only two exempts from paying VAT: \n\n\n	You are a corporate customer based outside of Germany but in the European Union and would like to apply the reverse charge process regarding VAT.\n	You are a corporate customer located outside the European Union.\n\n\nIn both cases\, please contact us directly\, as these cases require a different invoicing process. I appreciate your understanding! \n\n\n\n\n\n\nClick here to buy tickets\n \n\n\n\n \n\n\n🔧 Tool Selection & Why It Matters\n\nThis cohort was initially designed around free versions of various AI models. However\, after reviewing the latest capabilities and considering feedback from our initial survey\, I've integrated advanced AI techniques that significantly enhance the learning experience. These include: \n\n\n  GPTs\, projects\, agent-driven workflows for report generation\, and tailored AI assistance.\n  Advanced prompt engineering techniques that require access to custom AI models and long-context interactions.\n\n\nWhile we will still use free Perplexity\, Claude\, DeepSeek\, and NotebookLLM versions\, these advanced techniques are only available in paid versions of certain models. ChatGPT Plus currently offers the best and most-rounded feature set for the objectives of this class. \n\n👉 What This Means for You: \n\nTo ensure every participant has the best possible experience\, I recommend signing up for ChatGPT Plus for the class duration (June 5 to July 3). The one-month subscription of USD 20 will allow you to engage with all exercises and hands-on learning without limitations fully. \n\nIf you choose not to upgrade\, you can still participate\, but some techniques will not be immediately testable on your end\, and you may need to rely on shared outputs from others in the class. \n\n\n\nJoin the Innovation Journey\n\n\n  3 intensive sessions: June 5\, June 18\, and July 3\, 2025 (2-6 pm CEST)\n  Limited to 16 participants for maximum interaction\n  Direct access to course development insights\n  Life-long access to the corresponding online course when available\n  Shape the future of AI in Agile practices\n\n\nWhat Makes This Different\n\nUnlike theoretical AI courses or generic Agile training\, this pilot program focuses on immediate practical applications: \n\n  Create high-impact events and workshops using AI\n  Ease stakeholder communications while maintaining authenticity\n  Generate actionable insights from team metrics\n  Build your personal AI prompt library for repetitive tasks\n\n\nWhat You'll Get\n\n\n  12-plus hours of live\, interactive training\n  Learn to master prompt engineering\n  Real-world practice with immediate feedback\n  Access to all future iterations of the course materials\n  Certificate of completion as a founding participant\n\n\nPerfect For You If...\n\n\n  You're an experienced Agile practitioner ready to leverage AI\n  You want to stay ahead of the AI curve in Agile practices\n  You're excited to contribute to developing cutting-edge courses\n  You enjoy learning through experimentation and iteration\n\n\nThe Pilot Experience\n\nAs a pilot participant\, you'll: \n\n  Test new concepts and provide direct feedback\n  Help shape the future curriculum\n  Experience rapid iterations of content and approaches\n  Get lifetime access to the final course at no additional cost\n\n\nYour Investment\n\n\n  Early adopter price: €249 (regular course will be €499)\n  Limited to 16 participants to ensure quality interaction\n\n\nImportant Note\n\nThis is a pilot program. While the core content is solid\, expect: \n\n  Real-time adjustments based on group needs\n  Experimental approaches that we'll refine together\n  Open discussions about what works and what doesn't\n  The occasional rough edge that we'll smooth out together\n\n\nClass Schedule and Structure\n\nEngage in three live\, hands-on sessions\, pre- and post-class events\, and two work exercises with fellow students to maximize your learning experience: \n\n  Session 1: June 5\, 2025\, 2 pm – 6 pm CEST (Thursday)\n  Work exercise 1: Between sessions 1 and 2\n  Session 2: June 18\, 2025\, 2 pm – 6 pm CEST (Wednesday)\n  Work exercise 2: Between sessions 2 and 3\n  Session 3: July 3\, 2025\, 2 pm – 6 pm CEST (Thursday)\n\n\nAdditional Events\n\n\n  Pre-Class Preparation (30 min): Meet your peers a week before the first session and prepare for success\n  Post-Class Reunion (30 min): Two weeks after the final session\, reflect on your progress and revisit key takeaways\n  Refresher Classes: Attend future public cohort classes for free to revisit and deepen your knowledge\n\n\nTools Used in Public Live Virtual Classes\n\nFor this AI for Agile Practitioners cohort class\, we use Zoom and Mural to ensure the best learning experience. If you need to use other applications\, such as Microsoft Teams\, please feel free to contact us for other options. \n\nYour Professional Scrum Trainer Stefan Wolpers\n\nPST Stefan Wolpers will facilitate the class. Stefan has practiced Scrum\, XP\, and other agile practices for more than 17 years. He is an active contributor to the Berlin agile community; for example\, he is a licensed Agile Fluency™ facilitator as well as an XSCALE Alliance Business Agility coach. \n\nThe training activities will comprise of interactive exploration\, discussions\, and exercises\, for example\, based on Liberating Structures\, or short teachings. The techniques that you will learn are also immediately applicable after the class in your team environment. \n\nLearn more about your Professional Scrum Trainer Stefan Wolpers.
URL:https://berlin-product-people.com/event/ai-agile-practitioners-pilot-cohort-june-2025/
LOCATION:Live-virtual Class\, Berlin\, Germany
ATTACH;FMTTYPE=image/jpeg:https://berlin-product-people.com/wp-content/uploads/2025/04/ai-agile-pilot-cohort-june-2025-banner-ber-164-1650x330-1.jpg
END:VEVENT
END:VCALENDAR